BEGIN:VCALENDAR
VERSION:2.0
PRODID:-//eventon.com NONSGML v1.0//EN
CALSCALE:GREGORIAN
METHOD:PUBLISH
BEGIN:VEVENT
UID:69e99f1177128
DTSTAMP:20260423T042449Z
DTSTART:20241005T130000Z
DTEND:20241005T180000Z
LOCATION:Edwardsville Library 112 South Kansas Street Edwardsville\,  IL 62025
SUMMARY:Edwardsville Book Festival
DESCRIPTION:Program Description Event Details Join us outside the library i
 n City Park for a day of book-ish fun\,  including regional authors\,  new 
 and used book sales\,  fun activities for kids\,  crafts for sale\,  and fo
 od. All ages are welcome! If you are a local author and are interested in p
 articipating\, [..]\nhttps://metroeastmessenger.com/events/edwardsville-boo
 k-festival/
URL:https://metroeastmessenger.com/events/edwardsville-book-festival/
END:VEVENT
END:VCALENDAR