BEGIN:VCALENDAR
VERSION:2.0
PRODID:-//eventon.com NONSGML v1.0//EN
CALSCALE:GREGORIAN
METHOD:PUBLISH
BEGIN:VEVENT
UID:69e9e9e854c8a
DTSTAMP:20260423T094408Z
DTSTART:20240712T020000Z
DTEND:20240712T060000Z
LOCATION:Downtown District\,  116 E 1st St\,  O&#039;Fallon\,  IL\,  62269\,  United States Downtown District\,  116 E 1st St\,  O&#039;Fallon\,  IL\,  62269\,  United States
SUMMARY:District Nights
DESCRIPTION:District Nights  \nhttps://metroeastmessenger.com/events/distr
 ict-nights/
URL:https://metroeastmessenger.com/events/district-nights/
END:VEVENT
END:VCALENDAR