BEGIN:VCALENDAR
VERSION:2.0
PRODID:-//eventon.com NONSGML v1.0//EN
CALSCALE:GREGORIAN
METHOD:PUBLISH
BEGIN:VEVENT
UID:69ea6bf595018
DTSTAMP:20260423T185901Z
DTSTART:20241130T110000Z
DTEND:20241201T110000Z
LOCATION:Downtown District\,  116 E 1st St\,  O&#039;Fallon\,  IL\,  62269\,  United States Downtown District\,  116 E 1st St\,  O&#039;Fallon\,  IL\,  62269\,  United States
SUMMARY:Small Business Saturday
DESCRIPTION:Small Business Saturday  \nhttps://metroeastmessenger.com/even
 ts/small-business-saturday/
URL:https://metroeastmessenger.com/events/small-business-saturday/
END:VEVENT
END:VCALENDAR