BEGIN:VCALENDAR
VERSION:2.0
PRODID:-//eventon.com NONSGML v1.0//EN
CALSCALE:GREGORIAN
METHOD:PUBLISH
BEGIN:VEVENT
UID:69e9d602f314e
DTSTAMP:20260423T081914Z
DTSTART:20240821T220000Z
DTEND:20240822T000000Z
LOCATION:
SUMMARY:Senior Citizens Club Meeting
DESCRIPTION:Senior Citizens Club Meeting\nhttps://metroeastmessenger.com/ev
 ents/senior-citizens-club-meeting-2/
URL:https://metroeastmessenger.com/events/senior-citizens-club-meeting-2/
END:VEVENT
END:VCALENDAR