BEGIN:VCALENDAR
VERSION:2.0
PRODID:-//eventon.com NONSGML v1.0//EN
CALSCALE:GREGORIAN
METHOD:PUBLISH
BEGIN:VEVENT
UID:69ea093aabd79
DTSTAMP:20260423T115746Z
DTSTART:20240613T200000Z
DTEND:20240613T200000Z
LOCATION:121 East State Street\,  O&#039;Fallon 121 East State Street
SUMMARY:Ribbon Cutting - Seasons of Spice
DESCRIPTION:Join us as we welcome Seasons of Spice to O&#8217;Fallon&#8217;
 s Downtown District!\nhttps://metroeastmessenger.com/events/ribbon-cutting-
 seasons-of-spice/
URL:https://metroeastmessenger.com/events/ribbon-cutting-seasons-of-spice/
END:VEVENT
END:VCALENDAR